BEGIN:VCALENDAR
VERSION:2.0
PRODID:-//Weingut Wilker - ECPv6.15.20//NONSGML v1.0//EN
CALSCALE:GREGORIAN
METHOD:PUBLISH
X-ORIGINAL-URL:https://www.wilker.de
X-WR-CALDESC:Veranstaltungen für Weingut Wilker
REFRESH-INTERVAL;VALUE=DURATION:PT1H
X-Robots-Tag:noindex
X-PUBLISHED-TTL:PT1H
BEGIN:VTIMEZONE
TZID:Europe/Berlin
BEGIN:DAYLIGHT
TZOFFSETFROM:+0100
TZOFFSETTO:+0200
TZNAME:CEST
DTSTART:20250330T010000
END:DAYLIGHT
BEGIN:STANDARD
TZOFFSETFROM:+0200
TZOFFSETTO:+0100
TZNAME:CET
DTSTART:20251026T010000
END:STANDARD
BEGIN:DAYLIGHT
TZOFFSETFROM:+0100
TZOFFSETTO:+0200
TZNAME:CEST
DTSTART:20260329T010000
END:DAYLIGHT
BEGIN:STANDARD
TZOFFSETFROM:+0200
TZOFFSETTO:+0100
TZNAME:CET
DTSTART:20261025T010000
END:STANDARD
BEGIN:DAYLIGHT
TZOFFSETFROM:+0100
TZOFFSETTO:+0200
TZNAME:CEST
DTSTART:20270328T010000
END:DAYLIGHT
BEGIN:STANDARD
TZOFFSETFROM:+0200
TZOFFSETTO:+0100
TZNAME:CET
DTSTART:20271031T010000
END:STANDARD
END:VTIMEZONE
BEGIN:VEVENT
DTSTART;TZID=Europe/Berlin:20260507T180000
DTEND;TZID=Europe/Berlin:20260507T220000
DTSTAMP:20260421T174659
CREATED:20260201T231453Z
LAST-MODIFIED:20260205T070401Z
UID:10000780-1778176800-1778191200@www.wilker.de
SUMMARY:Flammkuchenabende 2026 - ab 18 Uhr
DESCRIPTION:Die regelmäßigen Flammkuchenabende sind mittlerweile in der weiteren Region zur Institution geworden. \nIn unserer Vinothek und in unserem Gutsausschank verwöhnen wir Sie mit hausgemachtem Flammkuchen und typischen Pfälzer Köstlichkeiten für den kleinen und großen Hunger. \nEine Reservierung ist daher ausdrücklich erwünscht. \nReservierung telefonisch oder online.\nBei Online Anmeldung verbindliche Buchung erst nach schriftlicher Bestätigung des Termines. \nHerzlich willkommen!
URL:https://www.wilker.de/termin/flammkuchenabende-2026-ab-18-uhr/2026-05-07/
CATEGORIES:Termine
ATTACH;FMTTYPE=image/jpeg:https://www.wilker.de/wp-content/uploads/2017/11/Weingut-Wilker-0962-1920-e1683957664141.jpg
END:VEVENT
BEGIN:VEVENT
DTSTART;TZID=Europe/Berlin:20260516T150000
DTEND;TZID=Europe/Berlin:20260516T200000
DTSTAMP:20260421T174659
CREATED:20260205T070622Z
LAST-MODIFIED:20260221T012237Z
UID:10000782-1778943600-1778961600@www.wilker.de
SUMMARY:Toni’s Tasting Room
DESCRIPTION:Weitere Informationen folgen. \nReservierung telefonisch oder online.\nBei Onlineanmeldung verbindliche Buchung erst nach schriftlicher Bestätigung des Termines.
URL:https://www.wilker.de/termin/tonis-tasting-room/2026-05-16/
CATEGORIES:Events,Termine
END:VEVENT
BEGIN:VEVENT
DTSTART;TZID=Europe/Berlin:20260521T080000
DTEND;TZID=Europe/Berlin:20260521T170000
DTSTAMP:20260421T174659
CREATED:20260201T231453Z
LAST-MODIFIED:20260205T070401Z
UID:10000781-1779350400-1779382800@www.wilker.de
SUMMARY:Flammkuchenabende 2026 - ab 18 Uhr
DESCRIPTION:Die regelmäßigen Flammkuchenabende sind mittlerweile in der weiteren Region zur Institution geworden. \nIn unserer Vinothek und in unserem Gutsausschank verwöhnen wir Sie mit hausgemachtem Flammkuchen und typischen Pfälzer Köstlichkeiten für den kleinen und großen Hunger. \nEine Reservierung ist daher ausdrücklich erwünscht. \nReservierung telefonisch oder online.\nBei Online Anmeldung verbindliche Buchung erst nach schriftlicher Bestätigung des Termines. \nHerzlich willkommen!
URL:https://www.wilker.de/termin/flammkuchenabende-2026-ab-18-uhr/2026-05-21/
CATEGORIES:Termine
ATTACH;FMTTYPE=image/jpeg:https://www.wilker.de/wp-content/uploads/2017/11/Weingut-Wilker-0962-1920-e1683957664141.jpg
END:VEVENT
BEGIN:VEVENT
DTSTART;TZID=Europe/Berlin:20260523T173000
DTEND;TZID=Europe/Berlin:20260523T220000
DTSTAMP:20260421T174659
CREATED:20260205T070552Z
LAST-MODIFIED:20260205T143036Z
UID:10000775-1779557400-1779573600@www.wilker.de
SUMMARY:Vernissage zur Kunstausstellung
DESCRIPTION:Weitere Informationen folgen. \nReservierung: telefonisch oder online.\nBei Onlineanmeldung verbindliche Buchung erst nach schriftlicher Bestätigung des Termines.
URL:https://www.wilker.de/termin/vernissage-zur-kunstausstellung/
CATEGORIES:Events,Termine
END:VEVENT
BEGIN:VEVENT
DTSTART;TZID=Europe/Berlin:20260530T180000
DTEND;TZID=Europe/Berlin:20260530T210000
DTSTAMP:20260421T174659
CREATED:20260205T070622Z
LAST-MODIFIED:20260221T012237Z
UID:10000777-1780164000-1780174800@www.wilker.de
SUMMARY:Toni’s Tasting Room
DESCRIPTION:Weitere Informationen folgen. \nReservierung telefonisch oder online.\nBei Onlineanmeldung verbindliche Buchung erst nach schriftlicher Bestätigung des Termines.
URL:https://www.wilker.de/termin/tonis-tasting-room/2026-05-30/
CATEGORIES:Events,Termine
END:VEVENT
END:VCALENDAR